BEGIN:VCALENDAR
VERSION:2.0
PRODID:-//Ariel Lodge 5596 - ECPv5.16.1.1//NONSGML v1.0//EN
CALSCALE:GREGORIAN
METHOD:PUBLISH
X-ORIGINAL-URL:https://ariellodge.com
X-WR-CALDESC:Events for Ariel Lodge 5596
REFRESH-INTERVAL;VALUE=DURATION:PT1H
X-Robots-Tag:noindex
X-PUBLISHED-TTL:PT1H
BEGIN:VTIMEZONE
TZID:Europe/London
BEGIN:DAYLIGHT
TZOFFSETFROM:+0000
TZOFFSETTO:+0100
TZNAME:BST
DTSTART:20250330T010000
END:DAYLIGHT
BEGIN:STANDARD
TZOFFSETFROM:+0100
TZOFFSETTO:+0000
TZNAME:GMT
DTSTART:20251026T010000
END:STANDARD
END:VTIMEZONE
BEGIN:VEVENT
DTSTART;TZID=Europe/London:20250115T163000
DTEND;TZID=Europe/London:20250115T210000
DTSTAMP:20260421T014119
CREATED:20240611T133414Z
LAST-MODIFIED:20240611T133713Z
UID:92-1736958600-1736974800@ariellodge.com
SUMMARY:Ariel Lodge Meeting
DESCRIPTION:
URL:https://ariellodge.com/event/ariel-lodge-meeting-2/
LOCATION:Twickenham District Masonic Centre\, 150 London Road\, Twickenham\, Middlesex\, TW16 7DF\, United Kingdom
CATEGORIES:Lodge Meeting
ORGANIZER;CN="Keith%20Gregory":MAILTO:keithgregory100@yahoo.co.uk
END:VEVENT
BEGIN:VEVENT
DTSTART;TZID=Europe/London:20250326T163000
DTEND;TZID=Europe/London:20250326T210000
DTSTAMP:20260421T014119
CREATED:20240611T133523Z
LAST-MODIFIED:20240611T133557Z
UID:94-1743006600-1743022800@ariellodge.com
SUMMARY:Ariel Lodge Installation
DESCRIPTION:
URL:https://ariellodge.com/event/ariel-lodge-installation/
LOCATION:Twickenham District Masonic Centre\, 150 London Road\, Twickenham\, Middlesex\, TW16 7DF\, United Kingdom
CATEGORIES:Lodge Meeting
ORGANIZER;CN="Keith%20Gregory":MAILTO:keithgregory100@yahoo.co.uk
END:VEVENT
END:VCALENDAR