BEGIN:VCALENDAR
VERSION:2.0
PRODID:-//Ariel Lodge 5596 - ECPv5.16.1.1//NONSGML v1.0//EN
CALSCALE:GREGORIAN
METHOD:PUBLISH
X-WR-CALNAME:Ariel Lodge 5596
X-ORIGINAL-URL:https://ariellodge.com
X-WR-CALDESC:Events for Ariel Lodge 5596
REFRESH-INTERVAL;VALUE=DURATION:PT1H
X-Robots-Tag:noindex
X-PUBLISHED-TTL:PT1H
BEGIN:VTIMEZONE
TZID:Europe/London
BEGIN:DAYLIGHT
TZOFFSETFROM:+0000
TZOFFSETTO:+0100
TZNAME:BST
DTSTART:20240331T010000
END:DAYLIGHT
BEGIN:STANDARD
TZOFFSETFROM:+0100
TZOFFSETTO:+0000
TZNAME:GMT
DTSTART:20241027T010000
END:STANDARD
END:VTIMEZONE
BEGIN:VEVENT
DTSTART;TZID=Europe/London:20241016T043000
DTEND;TZID=Europe/London:20241016T210000
DTSTAMP:20260421T024431
CREATED:20240611T133308Z
LAST-MODIFIED:20240611T133851Z
UID:90-1729053000-1729112400@ariellodge.com
SUMMARY:Ariel Lodge Meeting
DESCRIPTION:
URL:https://ariellodge.com/event/ariel-lodge-meeting/
LOCATION:Twickenham District Masonic Centre\, 150 London Road\, Twickenham\, Middlesex\, TW16 7DF\, United Kingdom
CATEGORIES:Lodge Meeting
END:VEVENT
END:VCALENDAR